{"text_format":"3","workbook":"xlsx","n_sheets":2,"sheets":["Sammelabrechnung","Einstellungen"],"not_rendered":{"defined_names":4,"comments":1},"read":"whole","date_system":"1904"}

{"sheet":"Sammelabrechnung","index":0,"n_rows":81,"n_cols":29,"rows_kept":81,"merged":[[0,28,0,29],[2,1,2,2],[2,3,2,6],[2,7,2,8],[2,9,2,22],[2,23,2,25],[2,26,2,28],[4,1,4,2],[4,3,4,6],[4,7,4,8],[4,9,4,13],[4,17,4,22],[4,23,4,25],[4,26,4,28],[6,1,6,2],[6,3,6,6],[6,7,6,8],[6,9,6,13],[6,17,6,22],[8,2,8,5],[8,6,8,7],[8,8,8,9],[8,11,8,13],[8,14,8,19],[8,20,8,24],[8,25,8,27],[8,28,12,29],[9,1,12,1],[9,2,12,2],[9,3,12,3],[9,5,12,5],[9,6,12,7],[9,8,10,9],[9,10,12,10],[9,11,12,11],[9,12,12,12],[9,13,12,13],[9,14,12,14],[9,15,10,17],[9,18,12,18],[9,19,12,19],[9,20,12,20],[9,21,12,21],[9,22,12,22],[9,23,12,23],[9,24,12,24],[9,25,12,25],[9,26,12,26],[9,27,12,27],[11,8,12,8],[11,9,12,9],[11,15,12,15],[11,16,12,16],[11,17,12,17],[13,6,13,7],[13,28,13,29],[14,6,14,7],[14,28,14,29],[15,6,15,7],[15,28,15,29],[16,6,16,7],[16,28,16,29],[17,6,17,7],[17,28,17,29],[18,6,18,7],[18,28,18,29],[19,6,19,7],[19,28,19,29],[20,6,20,7],[20,28,20,29],[21,6,21,7],[21,28,21,29],[22,6,22,7],[22,28,22,29],[23,6,23,7],[23,28,23,29],[24,6,24,7],[24,28,24,29],[25,6,25,7],[25,28,25,29],[26,6,26,7],[26,28,26,29],[27,6,27,7],[27,28,27,29],[28,6,28,7],[28,28,28,29],[29,6,29,7],[29,28,29,29],[30,6,30,7],[30,28,30,29],[31,6,31,7],[31,28,31,29],[32,6,32,7],[32,28,32,29],[33,1,33,7],[33,14,33,18],[33,20,33,23],[33,28,33,29],[34,19,34,23],[35,1,38,11],[35,19,35,23],[36,19,36,23],[37,19,37,23],[38,19,38,23],[39,1,40,2],[39,6,40,7],[39,19,39,23],[40,19,40,23],[41,18,41,23],[41,24,41,28],[44,1,45,2],[44,6,45,7],[44,24,44,29],[45,24,46,29],[47,24,47,29],[48,24,49,29],[50,1,54,7],[51,24,52,27]]}
[null,"Sammelreisekostenabrechnung für das Jahr 2025",{"$nulls":7},"Formular nur für Mitarbeitende mit allgemeiner Dienstreisegenehmigung.",{"$nulls":18},"V1.2025"]
[]
[null,"Name, Vorname:",{"$nulls":5},"im Rahmen der Tätigkeit als:",{"$nulls":15},"Sachbearbeiter/in:"]
[]
[null," IBAN:",{"$nulls":5},"für den Zeitraum:",{"$nulls":8},"Dienstort:",{"$nulls":6},"Kostenstelle/AK:"]
[]
[null,"BIC:",{"$nulls":5},"Dienstvorgesetzte/r:",{"$nulls":8},"Dienststätte:"]
[]
[null,null,"Reisedauer",{"$nulls":8},"Fahrtkosten",null,null,"Tagegeld",{"$nulls":5},"Steuer",{"$nulls":4},"Sonstige Kosten",null,null,"Gesamt-\nbetrag \nEURO"]
[null,"Datum","Beginn","Ende","Stunden","Summe \nStunden","Angaben zum auswärtigen Geschäftsort, Bezeichnung des Dienstgeschäftes sowie Start- und Zielpunkt der Dienstreise.",null,"Außerhalb der politischen Gemeinde?",null,"Fahrrad, E-Bike oder Pedelec 0,25 €/km","gefahrene Km \nFahrrad, E-Bike \noder Pedelec","gefahrene Km \nprivates Kraftfahrzeug","Summe \nFahrtkosten","Tagegeld \nohne Abzüge","unentgeltlich überlassene Mahlzeiten",null,null,"Abzüge Tagegeld","verbleibendes Tagegeld","steuerfreie Verpflegungs-\npauschale nach EStG","Kürzung Steuerfreibeträge \nfür u. ü. Mahlzeiten","verbleibende Verpflegungs-\npauschale","Auszahlungsbetrag Tagegeld bzw. Sachbezugswert","zu versteuernder \nBetrag","ÖPNV, Bahn, \nTaxi, etc.","Sonstige Reisekosten \n(u.a. Parkgebühren)","Übernachtungs-\nkosten"]
[]
[{"$nulls":8},"JA \n= DR","NEIN \n= DG",{"$nulls":5},"Früh-stück","Mittag-essen","Abend-essen"]
[]
[{"$nulls":4},{"$f":"IF(D14=\"\",\"\",IF(D14<C14,(D14+1)-C14,D14-C14))","v":""},{"$f":"IF(D14=\"\",\"\",IF(B14=B15,\"\",SUMIFS($E$14:$E$33,$B$14:$B$33,B14,$I$14:$I$33,\"X\")))","v":""},{"$nulls":7},{"$f":"SUM((M14*Einstellungen!$E$2+Einstellungen!$E$3),Sammelabrechnung!L14*Einstellungen!$F$27)","v":{"v":0,"d":"0.00"}},{"$f":"IF(J14=\"x\",,IF($K14=\"\",IF(F14=\"\",\"\",IF(F14<Einstellungen!$F$23,0,IF(F14<Einstellungen!$F$24,6,12))),\"\"))","v":""},{"$nulls":3},{"$f":"IF(O14=\"\",\"\",P14*Einstellungen!$E$18*Einstellungen!$H$18+Q14*Einstellungen!$E$19*Einstellungen!$H$18+R14*Einstellungen!$E$20*Einstellungen!$H$18)","v":""},{"$f":"IF(S14=\"\",\"\",MAX(0,O14-S14))","v":""},{"$f":"IF(F14=\"\",\"\",IF(F14>=Einstellungen!$F$22,14,0))","v":""},{"$f":"IF(O14=\"\",\"\",IF(SUM(P14:R14)=0,0,IF(U14>0,P14*Einstellungen!$F$18+Sammelabrechnung!Q14*Einstellungen!$F$19+Sammelabrechnung!R14*Einstellungen!$F$20,0)))","v":""},{"$f":"IF(U14=\"\",\"\",IF(V14>U14,0,U14-V14))","v":""},{"$f":"IF(O14=0,P14*Einstellungen!$E$13+Sammelabrechnung!Q14*Einstellungen!$E$14+Sammelabrechnung!R14*Einstellungen!$E$15,Sammelabrechnung!T14)","v":""},{"$f":"IF(F14=\"\",\"\",IF(O14=0,SUM(P14*Einstellungen!$E$13,Einstellungen!$E$14*Sammelabrechnung!Q14,Sammelabrechnung!R14*Einstellungen!$E$15),IF(W14-X14<0,X14-W14,0)))","v":""},{"$nulls":3},{"$f":"IF(B14=\"\",0,SUM(N14,T14,Z14,AA14,AB14))","v":{"v":0,"d":"0.00"}}]
[{"$nulls":4},{"$f":"IF(D15=\"\",\"\",IF(D15<C15,(D15+1)-C15,D15-C15))","v":""},"",{"$nulls":7},{"$f":"SUM((M15*Einstellungen!$E$2+Einstellungen!$E$3),Sammelabrechnung!L15*Einstellungen!$F$27)","v":{"v":0,"d":"0.00"}},{"$f":"IF(J15=\"x\",,IF($K15=\"\",IF(F15=\"\",\"\",IF(F15<Einstellungen!$F$23,0,IF(F15<Einstellungen!$F$24,6,12))),\"\"))","v":""},{"$nulls":3},{"$f":"IF(O15=\"\",\"\",P15*Einstellungen!$E$18*Einstellungen!$H$18+Q15*Einstellungen!$E$19*Einstellungen!$H$18+R15*Einstellungen!$E$20*Einstellungen!$H$18)","v":""},{"$f":"IF(S15=\"\",\"\",MAX(0,O15-S15))","v":""},{"$f":"IF(F15=\"\",\"\",IF(F15>=Einstellungen!$F$22,14,0))","v":""},{"$f":"IF(O15=\"\",\"\",IF(SUM(P15:R15)=0,0,IF(U15>0,P15*Einstellungen!$F$18+Sammelabrechnung!Q15*Einstellungen!$F$19+Sammelabrechnung!R15*Einstellungen!$F$20,0)))","v":""},{"$f":"IF(U15=\"\",\"\",IF(V15>U15,0,U15-V15))","v":""},{"$f":"IF(O15=0,P15*Einstellungen!$E$13+Sammelabrechnung!Q15*Einstellungen!$E$14+Sammelabrechnung!R15*Einstellungen!$E$15,Sammelabrechnung!T15)","v":""},{"$f":"IF(F15=\"\",\"\",IF(O15=0,SUM(P15*Einstellungen!$E$13,Einstellungen!$E$14*Sammelabrechnung!Q15,Sammelabrechnung!R15*Einstellungen!$E$15),IF(W15-X15<0,X15-W15,0)))","v":""},{"$nulls":3},{"v":0,"d":"0.00"}]
[{"$nulls":4},"","",{"$nulls":7},{"$f":"SUM((M16*Einstellungen!$E$2+Einstellungen!$E$3),Sammelabrechnung!L16*Einstellungen!$F$27)","v":{"v":0,"d":"0.00"}},{"$f":"IF(J16=\"x\",,IF($K16=\"\",IF(F16=\"\",\"\",IF(F16<Einstellungen!$F$23,0,IF(F16<Einstellungen!$F$24,6,12))),\"\"))","v":""},{"$nulls":3},{"$f":"IF(O16=\"\",\"\",P16*Einstellungen!$E$18*Einstellungen!$H$18+Q16*Einstellungen!$E$19*Einstellungen!$H$18+R16*Einstellungen!$E$20*Einstellungen!$H$18)","v":""},"",{"$f":"IF(F16=\"\",\"\",IF(F16>=Einstellungen!$F$22,14,0))","v":""},{"$f":"IF(O16=\"\",\"\",IF(SUM(P16:R16)=0,0,IF(U16>0,P16*Einstellungen!$F$18+Sammelabrechnung!Q16*Einstellungen!$F$19+Sammelabrechnung!R16*Einstellungen!$F$20,0)))","v":""},"",{"$f":"IF(O16=0,P16*Einstellungen!$E$13+Sammelabrechnung!Q16*Einstellungen!$E$14+Sammelabrechnung!R16*Einstellungen!$E$15,Sammelabrechnung!T16)","v":""},{"$f":"IF(F16=\"\",\"\",IF(O16=0,SUM(P16*Einstellungen!$E$13,Einstellungen!$E$14*Sammelabrechnung!Q16,Sammelabrechnung!R16*Einstellungen!$E$15),IF(W16-X16<0,X16-W16,0)))","v":""},{"$nulls":3},{"v":0,"d":"0.00"}]
[{"$nulls":4},"","",{"$nulls":7},{"$f":"SUM((M17*Einstellungen!$E$2+Einstellungen!$E$3),Sammelabrechnung!L17*Einstellungen!$F$27)","v":{"v":0,"d":"0.00"}},{"$f":"IF(J17=\"x\",,IF($K17=\"\",IF(F17=\"\",\"\",IF(F17<Einstellungen!$F$23,0,IF(F17<Einstellungen!$F$24,6,12))),\"\"))","v":""},{"$nulls":3},{"$f":"IF(O17=\"\",\"\",P17*Einstellungen!$E$18*Einstellungen!$H$18+Q17*Einstellungen!$E$19*Einstellungen!$H$18+R17*Einstellungen!$E$20*Einstellungen!$H$18)","v":""},"",{"$f":"IF(F17=\"\",\"\",IF(F17>=Einstellungen!$F$22,14,0))","v":""},{"$f":"IF(O17=\"\",\"\",IF(SUM(P17:R17)=0,0,IF(U17>0,P17*Einstellungen!$F$18+Sammelabrechnung!Q17*Einstellungen!$F$19+Sammelabrechnung!R17*Einstellungen!$F$20,0)))","v":""},"",{"$f":"IF(O17=0,P17*Einstellungen!$E$13+Sammelabrechnung!Q17*Einstellungen!$E$14+Sammelabrechnung!R17*Einstellungen!$E$15,Sammelabrechnung!T17)","v":""},{"$f":"IF(F17=\"\",\"\",IF(O17=0,SUM(P17*Einstellungen!$E$13,Einstellungen!$E$14*Sammelabrechnung!Q17,Sammelabrechnung!R17*Einstellungen!$E$15),IF(W17-X17<0,X17-W17,0)))","v":""},{"$nulls":3},{"v":0,"d":"0.00"}]
[{"$nulls":4},"","",{"$nulls":7},{"$f":"SUM((M18*Einstellungen!$E$2+Einstellungen!$E$3),Sammelabrechnung!L18*Einstellungen!$F$27)","v":{"v":0,"d":"0.00"}},{"$f":"IF(J18=\"x\",,IF($K18=\"\",IF(F18=\"\",\"\",IF(F18<Einstellungen!$F$23,0,IF(F18<Einstellungen!$F$24,6,12))),\"\"))","v":""},{"$nulls":3},{"$f":"IF(O18=\"\",\"\",P18*Einstellungen!$E$18*Einstellungen!$H$18+Q18*Einstellungen!$E$19*Einstellungen!$H$18+R18*Einstellungen!$E$20*Einstellungen!$H$18)","v":""},"",{"$f":"IF(F18=\"\",\"\",IF(F18>=Einstellungen!$F$22,14,0))","v":""},{"$f":"IF(O18=\"\",\"\",IF(SUM(P18:R18)=0,0,IF(U18>0,P18*Einstellungen!$F$18+Sammelabrechnung!Q18*Einstellungen!$F$19+Sammelabrechnung!R18*Einstellungen!$F$20,0)))","v":""},"",{"$f":"IF(O18=0,P18*Einstellungen!$E$13+Sammelabrechnung!Q18*Einstellungen!$E$14+Sammelabrechnung!R18*Einstellungen!$E$15,Sammelabrechnung!T18)","v":""},{"$f":"IF(F18=\"\",\"\",IF(O18=0,SUM(P18*Einstellungen!$E$13,Einstellungen!$E$14*Sammelabrechnung!Q18,Sammelabrechnung!R18*Einstellungen!$E$15),IF(W18-X18<0,X18-W18,0)))","v":""},{"$nulls":3},{"v":0,"d":"0.00"}]
[{"$nulls":4},"","",{"$nulls":7},{"$f":"SUM((M19*Einstellungen!$E$2+Einstellungen!$E$3),Sammelabrechnung!L19*Einstellungen!$F$27)","v":{"v":0,"d":"0.00"}},{"$f":"IF(J19=\"x\",,IF($K19=\"\",IF(F19=\"\",\"\",IF(F19<Einstellungen!$F$23,0,IF(F19<Einstellungen!$F$24,6,12))),\"\"))","v":""},{"$nulls":3},{"$f":"IF(O19=\"\",\"\",P19*Einstellungen!$E$18*Einstellungen!$H$18+Q19*Einstellungen!$E$19*Einstellungen!$H$18+R19*Einstellungen!$E$20*Einstellungen!$H$18)","v":""},"",{"$f":"IF(F19=\"\",\"\",IF(F19>=Einstellungen!$F$22,14,0))","v":""},{"$f":"IF(O19=\"\",\"\",IF(SUM(P19:R19)=0,0,IF(U19>0,P19*Einstellungen!$F$18+Sammelabrechnung!Q19*Einstellungen!$F$19+Sammelabrechnung!R19*Einstellungen!$F$20,0)))","v":""},"",{"$f":"IF(O19=0,P19*Einstellungen!$E$13+Sammelabrechnung!Q19*Einstellungen!$E$14+Sammelabrechnung!R19*Einstellungen!$E$15,Sammelabrechnung!T19)","v":""},{"$f":"IF(F19=\"\",\"\",IF(O19=0,SUM(P19*Einstellungen!$E$13,Einstellungen!$E$14*Sammelabrechnung!Q19,Sammelabrechnung!R19*Einstellungen!$E$15),IF(W19-X19<0,X19-W19,0)))","v":""},{"$nulls":3},{"v":0,"d":"0.00"}]
[{"$nulls":4},"","",{"$nulls":7},{"$f":"SUM((M20*Einstellungen!$E$2+Einstellungen!$E$3),Sammelabrechnung!L20*Einstellungen!$F$27)","v":{"v":0,"d":"0.00"}},{"$f":"IF(J20=\"x\",,IF($K20=\"\",IF(F20=\"\",\"\",IF(F20<Einstellungen!$F$23,0,IF(F20<Einstellungen!$F$24,6,12))),\"\"))","v":""},{"$nulls":3},{"$f":"IF(O20=\"\",\"\",P20*Einstellungen!$E$18*Einstellungen!$H$18+Q20*Einstellungen!$E$19*Einstellungen!$H$18+R20*Einstellungen!$E$20*Einstellungen!$H$18)","v":""},"",{"$f":"IF(F20=\"\",\"\",IF(F20>=Einstellungen!$F$22,14,0))","v":""},{"$f":"IF(O20=\"\",\"\",IF(SUM(P20:R20)=0,0,IF(U20>0,P20*Einstellungen!$F$18+Sammelabrechnung!Q20*Einstellungen!$F$19+Sammelabrechnung!R20*Einstellungen!$F$20,0)))","v":""},"",{"$f":"IF(O20=0,P20*Einstellungen!$E$13+Sammelabrechnung!Q20*Einstellungen!$E$14+Sammelabrechnung!R20*Einstellungen!$E$15,Sammelabrechnung!T20)","v":""},{"$f":"IF(F20=\"\",\"\",IF(O20=0,SUM(P20*Einstellungen!$E$13,Einstellungen!$E$14*Sammelabrechnung!Q20,Sammelabrechnung!R20*Einstellungen!$E$15),IF(W20-X20<0,X20-W20,0)))","v":""},{"$nulls":3},{"v":0,"d":"0.00"}]
[{"$nulls":4},"","",{"$nulls":7},{"$f":"SUM((M21*Einstellungen!$E$2+Einstellungen!$E$3),Sammelabrechnung!L21*Einstellungen!$F$27)","v":{"v":0,"d":"0.00"}},{"$f":"IF(J21=\"x\",,IF($K21=\"\",IF(F21=\"\",\"\",IF(F21<Einstellungen!$F$23,0,IF(F21<Einstellungen!$F$24,6,12))),\"\"))","v":""},{"$nulls":3},{"$f":"IF(O21=\"\",\"\",P21*Einstellungen!$E$18*Einstellungen!$H$18+Q21*Einstellungen!$E$19*Einstellungen!$H$18+R21*Einstellungen!$E$20*Einstellungen!$H$18)","v":""},"",{"$f":"IF(F21=\"\",\"\",IF(F21>=Einstellungen!$F$22,14,0))","v":""},{"$f":"IF(O21=\"\",\"\",IF(SUM(P21:R21)=0,0,IF(U21>0,P21*Einstellungen!$F$18+Sammelabrechnung!Q21*Einstellungen!$F$19+Sammelabrechnung!R21*Einstellungen!$F$20,0)))","v":""},"",{"$f":"IF(O21=0,P21*Einstellungen!$E$13+Sammelabrechnung!Q21*Einstellungen!$E$14+Sammelabrechnung!R21*Einstellungen!$E$15,Sammelabrechnung!T21)","v":""},{"$f":"IF(F21=\"\",\"\",IF(O21=0,SUM(P21*Einstellungen!$E$13,Einstellungen!$E$14*Sammelabrechnung!Q21,Sammelabrechnung!R21*Einstellungen!$E$15),IF(W21-X21<0,X21-W21,0)))","v":""},{"$nulls":3},{"v":0,"d":"0.00"}]
[{"$nulls":4},"","",{"$nulls":7},{"$f":"SUM((M22*Einstellungen!$E$2+Einstellungen!$E$3),Sammelabrechnung!L22*Einstellungen!$F$27)","v":{"v":0,"d":"0.00"}},{"$f":"IF(J22=\"x\",,IF($K22=\"\",IF(F22=\"\",\"\",IF(F22<Einstellungen!$F$23,0,IF(F22<Einstellungen!$F$24,6,12))),\"\"))","v":""},{"$nulls":3},{"$f":"IF(O22=\"\",\"\",P22*Einstellungen!$E$18*Einstellungen!$H$18+Q22*Einstellungen!$E$19*Einstellungen!$H$18+R22*Einstellungen!$E$20*Einstellungen!$H$18)","v":""},"",{"$f":"IF(F22=\"\",\"\",IF(F22>=Einstellungen!$F$22,14,0))","v":""},{"$f":"IF(O22=\"\",\"\",IF(SUM(P22:R22)=0,0,IF(U22>0,P22*Einstellungen!$F$18+Sammelabrechnung!Q22*Einstellungen!$F$19+Sammelabrechnung!R22*Einstellungen!$F$20,0)))","v":""},"",{"$f":"IF(O22=0,P22*Einstellungen!$E$13+Sammelabrechnung!Q22*Einstellungen!$E$14+Sammelabrechnung!R22*Einstellungen!$E$15,Sammelabrechnung!T22)","v":""},{"$f":"IF(F22=\"\",\"\",IF(O22=0,SUM(P22*Einstellungen!$E$13,Einstellungen!$E$14*Sammelabrechnung!Q22,Sammelabrechnung!R22*Einstellungen!$E$15),IF(W22-X22<0,X22-W22,0)))","v":""},{"$nulls":3},{"v":0,"d":"0.00"}]
[{"$nulls":4},"","",{"$nulls":7},{"$f":"SUM((M23*Einstellungen!$E$2+Einstellungen!$E$3),Sammelabrechnung!L23*Einstellungen!$F$27)","v":{"v":0,"d":"0.00"}},{"$f":"IF(J23=\"x\",,IF($K23=\"\",IF(F23=\"\",\"\",IF(F23<Einstellungen!$F$23,0,IF(F23<Einstellungen!$F$24,6,12))),\"\"))","v":""},{"$nulls":3},{"$f":"IF(O23=\"\",\"\",P23*Einstellungen!$E$18*Einstellungen!$H$18+Q23*Einstellungen!$E$19*Einstellungen!$H$18+R23*Einstellungen!$E$20*Einstellungen!$H$18)","v":""},"",{"$f":"IF(F23=\"\",\"\",IF(F23>=Einstellungen!$F$22,14,0))","v":""},{"$f":"IF(O23=\"\",\"\",IF(SUM(P23:R23)=0,0,IF(U23>0,P23*Einstellungen!$F$18+Sammelabrechnung!Q23*Einstellungen!$F$19+Sammelabrechnung!R23*Einstellungen!$F$20,0)))","v":""},"",{"$f":"IF(O23=0,P23*Einstellungen!$E$13+Sammelabrechnung!Q23*Einstellungen!$E$14+Sammelabrechnung!R23*Einstellungen!$E$15,Sammelabrechnung!T23)","v":""},{"$f":"IF(F23=\"\",\"\",IF(O23=0,SUM(P23*Einstellungen!$E$13,Einstellungen!$E$14*Sammelabrechnung!Q23,Sammelabrechnung!R23*Einstellungen!$E$15),IF(W23-X23<0,X23-W23,0)))","v":""},{"$nulls":3},{"v":0,"d":"0.00"}]
[{"$nulls":4},"","",{"$nulls":7},{"$f":"SUM((M24*Einstellungen!$E$2+Einstellungen!$E$3),Sammelabrechnung!L24*Einstellungen!$F$27)","v":{"v":0,"d":"0.00"}},{"$f":"IF(J24=\"x\",,IF($K24=\"\",IF(F24=\"\",\"\",IF(F24<Einstellungen!$F$23,0,IF(F24<Einstellungen!$F$24,6,12))),\"\"))","v":""},{"$nulls":3},{"$f":"IF(O24=\"\",\"\",P24*Einstellungen!$E$18*Einstellungen!$H$18+Q24*Einstellungen!$E$19*Einstellungen!$H$18+R24*Einstellungen!$E$20*Einstellungen!$H$18)","v":""},"",{"$f":"IF(F24=\"\",\"\",IF(F24>=Einstellungen!$F$22,14,0))","v":""},{"$f":"IF(O24=\"\",\"\",IF(SUM(P24:R24)=0,0,IF(U24>0,P24*Einstellungen!$F$18+Sammelabrechnung!Q24*Einstellungen!$F$19+Sammelabrechnung!R24*Einstellungen!$F$20,0)))","v":""},"",{"$f":"IF(O24=0,P24*Einstellungen!$E$13+Sammelabrechnung!Q24*Einstellungen!$E$14+Sammelabrechnung!R24*Einstellungen!$E$15,Sammelabrechnung!T24)","v":""},{"$f":"IF(F24=\"\",\"\",IF(O24=0,SUM(P24*Einstellungen!$E$13,Einstellungen!$E$14*Sammelabrechnung!Q24,Sammelabrechnung!R24*Einstellungen!$E$15),IF(W24-X24<0,X24-W24,0)))","v":""},{"$nulls":3},{"v":0,"d":"0.00"}]
[{"$nulls":4},"","",{"$nulls":7},{"$f":"SUM((M25*Einstellungen!$E$2+Einstellungen!$E$3),Sammelabrechnung!L25*Einstellungen!$F$27)","v":{"v":0,"d":"0.00"}},{"$f":"IF(J25=\"x\",,IF($K25=\"\",IF(F25=\"\",\"\",IF(F25<Einstellungen!$F$23,0,IF(F25<Einstellungen!$F$24,6,12))),\"\"))","v":""},{"$nulls":3},{"$f":"IF(O25=\"\",\"\",P25*Einstellungen!$E$18*Einstellungen!$H$18+Q25*Einstellungen!$E$19*Einstellungen!$H$18+R25*Einstellungen!$E$20*Einstellungen!$H$18)","v":""},"",{"$f":"IF(F25=\"\",\"\",IF(F25>=Einstellungen!$F$22,14,0))","v":""},{"$f":"IF(O25=\"\",\"\",IF(SUM(P25:R25)=0,0,IF(U25>0,P25*Einstellungen!$F$18+Sammelabrechnung!Q25*Einstellungen!$F$19+Sammelabrechnung!R25*Einstellungen!$F$20,0)))","v":""},"",{"$f":"IF(O25=0,P25*Einstellungen!$E$13+Sammelabrechnung!Q25*Einstellungen!$E$14+Sammelabrechnung!R25*Einstellungen!$E$15,Sammelabrechnung!T25)","v":""},{"$f":"IF(F25=\"\",\"\",IF(O25=0,SUM(P25*Einstellungen!$E$13,Einstellungen!$E$14*Sammelabrechnung!Q25,Sammelabrechnung!R25*Einstellungen!$E$15),IF(W25-X25<0,X25-W25,0)))","v":""},{"$nulls":3},{"v":0,"d":"0.00"}]
[{"$nulls":4},"","",{"$nulls":7},{"$f":"SUM((M26*Einstellungen!$E$2+Einstellungen!$E$3),Sammelabrechnung!L26*Einstellungen!$F$27)","v":{"v":0,"d":"0.00"}},{"$f":"IF(J26=\"x\",,IF($K26=\"\",IF(F26=\"\",\"\",IF(F26<Einstellungen!$F$23,0,IF(F26<Einstellungen!$F$24,6,12))),\"\"))","v":""},{"$nulls":3},{"$f":"IF(O26=\"\",\"\",P26*Einstellungen!$E$18*Einstellungen!$H$18+Q26*Einstellungen!$E$19*Einstellungen!$H$18+R26*Einstellungen!$E$20*Einstellungen!$H$18)","v":""},"",{"$f":"IF(F26=\"\",\"\",IF(F26>=Einstellungen!$F$22,14,0))","v":""},{"$f":"IF(O26=\"\",\"\",IF(SUM(P26:R26)=0,0,IF(U26>0,P26*Einstellungen!$F$18+Sammelabrechnung!Q26*Einstellungen!$F$19+Sammelabrechnung!R26*Einstellungen!$F$20,0)))","v":""},"",{"$f":"IF(O26=0,P26*Einstellungen!$E$13+Sammelabrechnung!Q26*Einstellungen!$E$14+Sammelabrechnung!R26*Einstellungen!$E$15,Sammelabrechnung!T26)","v":""},{"$f":"IF(F26=\"\",\"\",IF(O26=0,SUM(P26*Einstellungen!$E$13,Einstellungen!$E$14*Sammelabrechnung!Q26,Sammelabrechnung!R26*Einstellungen!$E$15),IF(W26-X26<0,X26-W26,0)))","v":""},{"$nulls":3},{"v":0,"d":"0.00"}]
[{"$nulls":4},"","",{"$nulls":7},{"$f":"SUM((M27*Einstellungen!$E$2+Einstellungen!$E$3),Sammelabrechnung!L27*Einstellungen!$F$27)","v":{"v":0,"d":"0.00"}},{"$f":"IF(J27=\"x\",,IF($K27=\"\",IF(F27=\"\",\"\",IF(F27<Einstellungen!$F$23,0,IF(F27<Einstellungen!$F$24,6,12))),\"\"))","v":""},{"$nulls":3},{"$f":"IF(O27=\"\",\"\",P27*Einstellungen!$E$18*Einstellungen!$H$18+Q27*Einstellungen!$E$19*Einstellungen!$H$18+R27*Einstellungen!$E$20*Einstellungen!$H$18)","v":""},"",{"$f":"IF(F27=\"\",\"\",IF(F27>=Einstellungen!$F$22,14,0))","v":""},{"$f":"IF(O27=\"\",\"\",IF(SUM(P27:R27)=0,0,IF(U27>0,P27*Einstellungen!$F$18+Sammelabrechnung!Q27*Einstellungen!$F$19+Sammelabrechnung!R27*Einstellungen!$F$20,0)))","v":""},"",{"$f":"IF(O27=0,P27*Einstellungen!$E$13+Sammelabrechnung!Q27*Einstellungen!$E$14+Sammelabrechnung!R27*Einstellungen!$E$15,Sammelabrechnung!T27)","v":""},{"$f":"IF(F27=\"\",\"\",IF(O27=0,SUM(P27*Einstellungen!$E$13,Einstellungen!$E$14*Sammelabrechnung!Q27,Sammelabrechnung!R27*Einstellungen!$E$15),IF(W27-X27<0,X27-W27,0)))","v":""},{"$nulls":3},{"v":0,"d":"0.00"}]
[{"$nulls":4},"","",{"$nulls":7},{"$f":"SUM((M28*Einstellungen!$E$2+Einstellungen!$E$3),Sammelabrechnung!L28*Einstellungen!$F$27)","v":{"v":0,"d":"0.00"}},{"$f":"IF(J28=\"x\",,IF($K28=\"\",IF(F28=\"\",\"\",IF(F28<Einstellungen!$F$23,0,IF(F28<Einstellungen!$F$24,6,12))),\"\"))","v":""},{"$nulls":3},{"$f":"IF(O28=\"\",\"\",P28*Einstellungen!$E$18*Einstellungen!$H$18+Q28*Einstellungen!$E$19*Einstellungen!$H$18+R28*Einstellungen!$E$20*Einstellungen!$H$18)","v":""},"",{"$f":"IF(F28=\"\",\"\",IF(F28>=Einstellungen!$F$22,14,0))","v":""},{"$f":"IF(O28=\"\",\"\",IF(SUM(P28:R28)=0,0,IF(U28>0,P28*Einstellungen!$F$18+Sammelabrechnung!Q28*Einstellungen!$F$19+Sammelabrechnung!R28*Einstellungen!$F$20,0)))","v":""},"",{"$f":"IF(O28=0,P28*Einstellungen!$E$13+Sammelabrechnung!Q28*Einstellungen!$E$14+Sammelabrechnung!R28*Einstellungen!$E$15,Sammelabrechnung!T28)","v":""},{"$f":"IF(F28=\"\",\"\",IF(O28=0,SUM(P28*Einstellungen!$E$13,Einstellungen!$E$14*Sammelabrechnung!Q28,Sammelabrechnung!R28*Einstellungen!$E$15),IF(W28-X28<0,X28-W28,0)))","v":""},{"$nulls":3},{"v":0,"d":"0.00"}]
[{"$nulls":4},"","",{"$nulls":7},{"$f":"SUM((M29*Einstellungen!$E$2+Einstellungen!$E$3),Sammelabrechnung!L29*Einstellungen!$F$27)","v":{"v":0,"d":"0.00"}},{"$f":"IF(J29=\"x\",,IF($K29=\"\",IF(F29=\"\",\"\",IF(F29<Einstellungen!$F$23,0,IF(F29<Einstellungen!$F$24,6,12))),\"\"))","v":""},{"$nulls":3},{"$f":"IF(O29=\"\",\"\",P29*Einstellungen!$E$18*Einstellungen!$H$18+Q29*Einstellungen!$E$19*Einstellungen!$H$18+R29*Einstellungen!$E$20*Einstellungen!$H$18)","v":""},"",{"$f":"IF(F29=\"\",\"\",IF(F29>=Einstellungen!$F$22,14,0))","v":""},{"$f":"IF(O29=\"\",\"\",IF(SUM(P29:R29)=0,0,IF(U29>0,P29*Einstellungen!$F$18+Sammelabrechnung!Q29*Einstellungen!$F$19+Sammelabrechnung!R29*Einstellungen!$F$20,0)))","v":""},"",{"$f":"IF(O29=0,P29*Einstellungen!$E$13+Sammelabrechnung!Q29*Einstellungen!$E$14+Sammelabrechnung!R29*Einstellungen!$E$15,Sammelabrechnung!T29)","v":""},{"$f":"IF(F29=\"\",\"\",IF(O29=0,SUM(P29*Einstellungen!$E$13,Einstellungen!$E$14*Sammelabrechnung!Q29,Sammelabrechnung!R29*Einstellungen!$E$15),IF(W29-X29<0,X29-W29,0)))","v":""},{"$nulls":3},{"v":0,"d":"0.00"}]
[{"$nulls":4},"","",{"$nulls":7},{"$f":"SUM((M30*Einstellungen!$E$2+Einstellungen!$E$3),Sammelabrechnung!L30*Einstellungen!$F$27)","v":{"v":0,"d":"0.00"}},{"$f":"IF(J30=\"x\",,IF($K30=\"\",IF(F30=\"\",\"\",IF(F30<Einstellungen!$F$23,0,IF(F30<Einstellungen!$F$24,6,12))),\"\"))","v":""},{"$nulls":3},{"$f":"IF(O30=\"\",\"\",P30*Einstellungen!$E$18*Einstellungen!$H$18+Q30*Einstellungen!$E$19*Einstellungen!$H$18+R30*Einstellungen!$E$20*Einstellungen!$H$18)","v":""},"",{"$f":"IF(F30=\"\",\"\",IF(F30>=Einstellungen!$F$22,14,0))","v":""},{"$f":"IF(O30=\"\",\"\",IF(SUM(P30:R30)=0,0,IF(U30>0,P30*Einstellungen!$F$18+Sammelabrechnung!Q30*Einstellungen!$F$19+Sammelabrechnung!R30*Einstellungen!$F$20,0)))","v":""},"",{"$f":"IF(O30=0,P30*Einstellungen!$E$13+Sammelabrechnung!Q30*Einstellungen!$E$14+Sammelabrechnung!R30*Einstellungen!$E$15,Sammelabrechnung!T30)","v":""},{"$f":"IF(F30=\"\",\"\",IF(O30=0,SUM(P30*Einstellungen!$E$13,Einstellungen!$E$14*Sammelabrechnung!Q30,Sammelabrechnung!R30*Einstellungen!$E$15),IF(W30-X30<0,X30-W30,0)))","v":""},{"$nulls":3},{"v":0,"d":"0.00"}]
[{"$nulls":4},"","",{"$nulls":7},{"$f":"SUM((M31*Einstellungen!$E$2+Einstellungen!$E$3),Sammelabrechnung!L31*Einstellungen!$F$27)","v":{"v":0,"d":"0.00"}},{"$f":"IF(J31=\"x\",,IF($K31=\"\",IF(F31=\"\",\"\",IF(F31<Einstellungen!$F$23,0,IF(F31<Einstellungen!$F$24,6,12))),\"\"))","v":""},{"$nulls":3},{"$f":"IF(O31=\"\",\"\",P31*Einstellungen!$E$18*Einstellungen!$H$18+Q31*Einstellungen!$E$19*Einstellungen!$H$18+R31*Einstellungen!$E$20*Einstellungen!$H$18)","v":""},"",{"$f":"IF(F31=\"\",\"\",IF(F31>=Einstellungen!$F$22,14,0))","v":""},{"$f":"IF(O31=\"\",\"\",IF(SUM(P31:R31)=0,0,IF(U31>0,P31*Einstellungen!$F$18+Sammelabrechnung!Q31*Einstellungen!$F$19+Sammelabrechnung!R31*Einstellungen!$F$20,0)))","v":""},"",{"$f":"IF(O31=0,P31*Einstellungen!$E$13+Sammelabrechnung!Q31*Einstellungen!$E$14+Sammelabrechnung!R31*Einstellungen!$E$15,Sammelabrechnung!T31)","v":""},{"$f":"IF(F31=\"\",\"\",IF(O31=0,SUM(P31*Einstellungen!$E$13,Einstellungen!$E$14*Sammelabrechnung!Q31,Sammelabrechnung!R31*Einstellungen!$E$15),IF(W31-X31<0,X31-W31,0)))","v":""},{"$nulls":3},{"v":0,"d":"0.00"}]
[{"$nulls":4},"","",{"$nulls":7},{"$f":"SUM((M32*Einstellungen!$E$2+Einstellungen!$E$3),Sammelabrechnung!L32*Einstellungen!$F$27)","v":{"v":0,"d":"0.00"}},{"$f":"IF(J32=\"x\",,IF($K32=\"\",IF(F32=\"\",\"\",IF(F32<Einstellungen!$F$23,0,IF(F32<Einstellungen!$F$24,6,12))),\"\"))","v":""},{"$nulls":3},{"$f":"IF(O32=\"\",\"\",P32*Einstellungen!$E$18*Einstellungen!$H$18+Q32*Einstellungen!$E$19*Einstellungen!$H$18+R32*Einstellungen!$E$20*Einstellungen!$H$18)","v":""},"",{"$f":"IF(F32=\"\",\"\",IF(F32>=Einstellungen!$F$22,14,0))","v":""},{"$f":"IF(O32=\"\",\"\",IF(SUM(P32:R32)=0,0,IF(U32>0,P32*Einstellungen!$F$18+Sammelabrechnung!Q32*Einstellungen!$F$19+Sammelabrechnung!R32*Einstellungen!$F$20,0)))","v":""},"",{"$f":"IF(O32=0,P32*Einstellungen!$E$13+Sammelabrechnung!Q32*Einstellungen!$E$14+Sammelabrechnung!R32*Einstellungen!$E$15,Sammelabrechnung!T32)","v":""},{"$f":"IF(F32=\"\",\"\",IF(O32=0,SUM(P32*Einstellungen!$E$13,Einstellungen!$E$14*Sammelabrechnung!Q32,Sammelabrechnung!R32*Einstellungen!$E$15),IF(W32-X32<0,X32-W32,0)))","v":""},{"$nulls":3},{"v":0,"d":"0.00"}]
[{"$nulls":4},"","",{"$nulls":7},{"$f":"SUM((M33*Einstellungen!$E$2+Einstellungen!$E$3),Sammelabrechnung!L33*Einstellungen!$F$27)","v":{"v":0,"d":"0.00"}},{"$f":"IF(J33=\"x\",,IF($K33=\"\",IF(F33=\"\",\"\",IF(F33<Einstellungen!$F$23,0,IF(F33<Einstellungen!$F$24,6,12))),\"\"))","v":""},{"$nulls":3},{"$f":"IF(O33=\"\",\"\",P33*Einstellungen!$E$18*Einstellungen!$H$18+Q33*Einstellungen!$E$19*Einstellungen!$H$18+R33*Einstellungen!$E$20*Einstellungen!$H$18)","v":""},"",{"$f":"IF(F33=\"\",\"\",IF(F33>=Einstellungen!$F$22,14,0))","v":""},{"$f":"IF(O33=\"\",\"\",IF(SUM(P33:R33)=0,0,IF(U33>0,P33*Einstellungen!$F$18+Sammelabrechnung!Q33*Einstellungen!$F$19+Sammelabrechnung!R33*Einstellungen!$F$20,0)))","v":""},"",{"$f":"IF(O33=0,P33*Einstellungen!$E$13+Sammelabrechnung!Q33*Einstellungen!$E$14+Sammelabrechnung!R33*Einstellungen!$E$15,Sammelabrechnung!T33)","v":""},{"$f":"IF(F33=\"\",\"\",IF(O33=0,SUM(P33*Einstellungen!$E$13,Einstellungen!$E$14*Sammelabrechnung!Q33,Sammelabrechnung!R33*Einstellungen!$E$15),IF(W33-X33<0,X33-W33,0)))","v":""},{"$nulls":3},{"v":0,"d":"0.00"}]
[null,"Summe Kilometer:       ",{"$nulls":9},{"$f":"SUM(L14:L33)","v":{"v":0,"d":"0.0"}},{"$f":"SUM(M14:M33)","v":{"v":0,"d":"0.0"}},{"$f":"SUM(N14:N33)","v":{"v":0,"d":"0.00"}},"Summe Tagegeld:",{"$nulls":4},{"$f":"SUM(T14:T33)","v":{"v":0,"d":"0.00"}},"Summe Steuer:",{"$nulls":3},{"$f":"SUM(Y14:Y33)","v":{"v":0,"d":"0.00"}},{"$f":"SUM(Z14:Z33)","v":{"v":0,"d":"0.00"}},{"$f":"SUM(AA14:AA33)","v":{"v":0,"d":"0.00"}},{"$f":"SUM(AB14:AB33)","v":{"v":0,"d":"0.00"}},{"$f":"SUM(AC14:AC33)","v":{"v":0,"d":"0.00"}}]
[]
[null,"Verpflichtungserklärung: \nIch versichere pflichtgemäß die Richtigkeit und Vollständigkeit meiner Angaben. \nDie allgemeine Dienstreisegenehmigung liegt bereits vor und alle erforderlichen Belege sind im Original beigefügt. \nHiermit bestätige ich, dass ich zum Zeitpunkt der Dienstreisen im Besitz einer gültigen Fahrerlaubnis war.",{"$nulls":11},{"$f":"N34","v":0},"Bezugsart 33.1850.70.00 mit DA 84",{"$nulls":4},"steuerfreier Betrag Tagegeld",{"$nulls":4},{"$f":"SUM(X14:X33)-SUM(Y14:Y33)","v":0},"Bezugsart 33.5211.70.00 mit DA 84"]
[{"$nulls":13},{"$f":"Z34","v":0},"Bezugsart 33.0214.70.00 mit DA 84",{"$nulls":4},"individuell zu versteuernder Betrag",{"$nulls":4},{"$f":"SUMIFS(Y14:Y33,O14:O33,\">0\",U14:U33,\"=0\")","v":0},"Bezugsart 33.5212.70.00 mit DA 84"]
[{"$nulls":13},{"$f":"AA34","v":0},"Bezugsart 33.6532.70.00 mit DA 84",{"$nulls":4},"pauschal zu versteuernder Betrag",{"$nulls":4},{"$f":"SUMIFS(Y14:Y33,O14:O33,\"\")","v":0},"Bezugsart 33.5214.70.01 mit DA 84"]
[{"$nulls":13},{"$f":"AB34","v":0},"Bezugsart 33.5210.70.00 mit DA 84",{"$nulls":4},"Verpflegungsaufwendungen pauschal",{"$nulls":4},{"$f":"Y34-Y37-Y38-Y40","v":0},"Bezugsart 33.5213.70.00 mit DA 84"]
[null,{"$f":"TODAY()","v":"2025-01-28"},{"$nulls":17},"Pauschalversteuerung ohne Tagegeld",{"$nulls":4},{"$f":"SUMIF(F14:F33,\"<=08:00\",Sammelabrechnung!Y14:Y33)","v":0},"Bezugsart 33.5214.70.01 mit DA 84"]
[{"$nulls":19},"Buchstabe \"M\" LSt.-Bescheinigung",{"$nulls":4},{"$f":"IF(OR(SUM(P14:P33)>=1,SUM(Q14:Q33)>=1,SUM(R14:R33)>=1),\"0,00 €\",)","v":0},"Bezugsart 33.5215.01.01 mit DA 84"]
[null,"Datum:",{"$nulls":4},"Unterschrift Antragssteller/in:",{"$nulls":11},"(einmalige Erfassung im Jahr mit 0,00 €)"]
[{"$nulls":6},"(Handschriftliche Unterschrift erforderlich!)"]
[]
[{"$nulls":24},"Dienstreiseabrechnung auf \nDublette geprüft."]
[{"$nulls":24},"Dienstreiseabrechnung sachlich \nund rechnerisch geprüft."]
[null,"Datum:",{"$nulls":4},"ggf. Mitzeichnung/Unterschrift der/des Dienstvorgesetzten:"]
[{"$nulls":6},"(Handschriftliche Unterschrift erforderlich!)",{"$nulls":17},"Dienstreisegenehmigung auf Plausibilität geprüft."]
[{"$nulls":24},"Dienstreiseabrechnung hinsichtlich der steuer- \nu. sozialversicherungsrechtlichen Bewertung geprüft."]
[]
[null,"Der Anspruch auf Reisekostenvergütung erlischt, wenn die Reisekostenvergütung nicht innerhalb \neiner Ausschlussfrist von sechs Monaten nach Beendigung der Dienstreise schriftlich oder elektronisch beantragt wird. \nDie Frist beginnt mit dem Tag nach Beendigung der Dienstreise. (§ 3 Abs. 4 LRKG) \nDie Auszahlung der Reisekostenvergütung erfolgt über die Lohn- und Gehaltskonten."]
[]
[]
[{"$nulls":24},"Datum, Kurzzeichen:"]
[{"$nulls":24},"Reisekostenstelle/personalverwaltende Dienststelle"]
{"$rows_empty":25}
[null,null,"x"," "]

{"sheet":"Einstellungen","index":1,"n_rows":27,"n_cols":8,"rows_kept":27,"hidden":true,"merged":[[0,0,0,3]]}
["EINSTELLUNGEN",{"$nulls":3},2025,2020]
["Wegstreckenentschädigung",{"$nulls":3},{"v":0.35,"d":"0.35 €"},{"v":0.35,"d":"0.35 €"},1.95583]
["Mitnahmeentschädigung",{"$nulls":3},0,{"v":0.02,"d":"0.02 €"},1.95583]
["Tagegeld"]
[null,"mind. ",8.01,"Std., aber weniger als 14 Std.",{"v":6,"d":"6.00 €"},{"v":6,"d":"6.00 €"},1.95583]
[null,"mind. ",14.01,"Std., aber weniger als 24 Std.",{"v":12,"d":"12.00 €"},{"v":12,"d":"12.00 €"},1.95583]
[null,"von",24,"Std.",{"v":24,"d":"24.00 €"},{"v":24,"d":"24.00 €"},1.95583,{"v":24,"d":"24.00 €"}]
["Ermittlung der Übernachtungskosten"]
[null,"Frühstück",null,null,{"v":4.8,"d":"4.80 €"},{"v":4.8,"d":"4.80 €"},{"$f":"20%*G7","v":{"v":0.391166,"d":"0.39 €"}},{"$f":"20%*H7","v":{"v":4.800000000000001,"d":"4.80 €"}}]
[null,"Mittagessen",null,null,{"v":9.6,"d":"9.60 €"},{"v":12,"d":"12.00 €"},{"$f":"50%*G7","v":{"v":0.977915,"d":"0.98 €"}},{"$f":"40%*H7","v":{"v":9.600000000000001,"d":"9.60 €"}}]
[null,"Abendessen",null,null,{"v":9.6,"d":"9.60 €"},{"v":7.2,"d":"7.20 €"},{"$f":"30%*G7","v":{"v":0.586749,"d":"0.59 €"}},{"$f":"40%*H7","v":{"v":9.600000000000001,"d":"9.60 €"}}]
["Sachbezugswert"]
[null,"Frühstück",null,null,{"v":2.3,"d":"2.30 €"},{"v":1.8,"d":"1.80 €"},1.95583]
[null,"Mittagessen",null,null,{"v":4.4,"d":"4.40 €"},{"v":3.4,"d":"3.40 €"},1.95583]
[null,"Abendessen",null,null,{"v":4.4,"d":"4.40 €"},{"v":3.4,"d":"3.40 €"},1.95583]
[]
[{"$nulls":4},"Faktor Abzüge LRKG","Abzüge Steuerfreibetrag"]
[{"$nulls":3},"Frühstück",0.2,5.6,null,{"v":24,"d":"24.00 €"}]
[{"$nulls":3},"Mittagessen",0.4,11.2]
[{"$nulls":3},"Abendessen",0.4,11.2]
[]
[{"$nulls":3},"Mindestabwesenheit für Steuerfreibetrag",null,"08:01:00",null,"08:01:00"]
[{"$nulls":4},"Tagegeld","08:01:00"]
[{"$nulls":5},"14:01:00"]
[]
[]
[{"$nulls":4},"Fahrradpauschale",{"v":0.25,"d":"0.25 €"}]